BEGIN:VCALENDAR
PRODID:NingEventWidget-v1
VERSION:2.0
METHOD:PUBLISH
BEGIN:VTIMEZONE
TZID:America/Anguilla
X-LIC-LOCATION:America/Anguilla
BEGIN:STANDARD
TZOFFSETFROM:-0400
TZOFFSETTO:-0400
TZNAME:AST
DTSTART:19700101T000000
END:STANDARD
END:VTIMEZONE
BEGIN:VEVENT
UID:3783271:Event:59882
DTSTAMP:20260419T161208Z
SUMMARY:TooManyGames Conference June 24, 2017
DESCRIPTION:TooMany Games\nConference in Oaks PA\nruns for an entire w
 eekend. . . June 23-25 2017\nLocated West of King of Prussia out on Rt
 e 422\nhttp://toomanygames.com/\n\nTooMany Games , the Conference in O
 aks PA that is the biggest one on the East Coast outside of Boston.\nY
 es, it runs for an entire weekend. . . June 23-25 2017\nLocated in Oak
 s Expo Center ( west of King of Prussia out on Rte 422 ) attended by a
  couple of Hundred people each year, including Indy Developers, writer
 s of Games eZines and Blogs, and even old-school board game people.\nÂ
  \nhttp://toomanygames.com/\nTooManyGames will span 3 days of non-stop
  fun and gaming excitement onÂ  June 23-25th, 2017 at The Greater Phil
 adelphia Expo Center! New special guests, contests and tournaments, li
 ve music, entertaining shows and panels, vendor room and expanded arca
 de, tons of games,\non social mediahttps://www.facebook.com/tmgexpo\nW
 eb http://toomanygames.com First round of special guestsÂ  for TMG 201
 7 was announced.\nTicketshttps://www.eventbrite.com/e/toomanygames-201
 7-tickets-28486681431\nDetails about each ticket package are on websit
 eÂ Questions mailto:info@toomanygames.com?subject=TMG2017%20Inquiry\n\
 nOther groups to get your Game Face on for . . . Â \nthe Games Forge u
 ser group inÂ downtown Philly,\ntheÂ games group that meets at the Mic
 rosoft Office in Malvern ( Rte 202 and Rte 29)\nÂ and a few game event
 sÂ always are at\nPhilly Tech Week\nhttp://2016.phillytechweek.com/eve
 nts#view=block\n\n\nFor more information visit http://www.agilephilly.
 com/events/toomanygames-conference-june-24-2017
DTSTART;TZID=America/Anguilla:20170623T000000
DTEND;TZID=America/Anguilla:20170625T235900
CATEGORIES:toomanygames, conference, games
LOCATION:Expo Center in Oaks PA
WEBSITE:http://TooMany Games.com
URL:http://TooMany Games.com
CONTACT:
ORGANIZER:
ATTACH;FMTTYPE="image/jpeg":http://storage.ning.com/topology/rest/1.0/
 file/get/1678285283?profile=original
ATTENDEE;ROLE=REQ-PARTICIPANT;PARTSTAT=ACCEPTED;RSVP=TRUE;CN="John Vor
 is, Lead Coordinator":http://www.agilephilly.com/profile/JohnVoris
END:VEVENT
END:VCALENDAR
