BEGIN:VCALENDAR
PRODID:NingEventWidget-v1
VERSION:2.0
METHOD:PUBLISH
BEGIN:VTIMEZONE
TZID:America/Anguilla
X-LIC-LOCATION:America/Anguilla
BEGIN:STANDARD
TZOFFSETFROM:-0400
TZOFFSETTO:-0400
TZNAME:AST
DTSTART:19700101T000000
END:STANDARD
END:VTIMEZONE
BEGIN:VEVENT
UID:3783271:Event:71232
DTSTAMP:20260422T152227Z
SUMMARY:The Johnstown Flood
DESCRIPTION:Pennsylvania History includes the 1889 Johnstown Flood whi
 ch was caused by wanton neglect of an earthen dam , where heavy rain c
 aused a collapse on May 31st, 1889.\r\n\r\nJohnstown, a steel town of 
 30,000 people lost  2200 residents when a wall of water raced down th
 e narrow valley at 40 mph.\r\n\r\n\r\nhttps://www.history.com/this-day
 -in-history/the-johnstown-flood\r\n\r\n\r\nIt was July 20, 1977 when a
  second severe flood hit Johnstown killing 84 people.  The dams in th
 e Conemaugh Valley failed as before when heavy rains inundated the reg
 ion.  Nearly 12 inches of rain fell in 10 hours.\r\n\r\nhttps://www.h
 istory.com/this-day-in-history/second-great-flood-hits-johnstown\r\n\r
 \nhttps://en.wikipedia.org/wiki/Johnstown_Flood\n\nFor more informatio
 n visit http://www.agilephilly.com/events/the-johnstown-flood
DTSTART;TZID=America/Anguilla:20190531T000000
DTEND;TZID=America/Anguilla:20190531T235900
CATEGORIES:memorial
LOCATION:Johnstown, PA
WEBSITE:https://en.wikipedia.org/wiki/Johnstown_Flood
URL:https://en.wikipedia.org/wiki/Johnstown_Flood
CONTACT:
ORGANIZER:
ATTACH;FMTTYPE="image/jpeg":https://storage.ning.com/topology/rest/1.0
 /file/get/718681852?profile=original
ATTENDEE;ROLE=REQ-PARTICIPANT;PARTSTAT=ACCEPTED;RSVP=TRUE;CN="John Vor
 is, Lead Coordinator":http://www.agilephilly.com/profile/JohnVoris
END:VEVENT
END:VCALENDAR
