BEGIN:VCALENDAR
PRODID:NingEventWidget-v1
VERSION:2.0
METHOD:PUBLISH
BEGIN:VTIMEZONE
TZID:America/Anguilla
X-LIC-LOCATION:America/Anguilla
BEGIN:STANDARD
TZOFFSETFROM:-0400
TZOFFSETTO:-0400
TZNAME:AST
DTSTART:19700101T000000
END:STANDARD
END:VTIMEZONE
BEGIN:VEVENT
UID:3783271:Event:68899
DTSTAMP:20260421T212631Z
SUMMARY:Metrics That Matter at AgilePA User Group Penn State Great Val
 ley
DESCRIPTION:\r\nAgilePA Users Group\r\nWILL BE MEETING ON THURSDAY NOV
 EMBER 8\r\n   Penn State Great Valley, the Malvern location\r\nRegist
 ration required\r\nhttps://www.dailyagile.com/scrum-class-list-2\r\n\r
 \nand Do not register at  eventbrite = they charge $ 12.00   https:
 //www.eventbrite.com/e/agilepa-user-group-meeting-nov-8th-metrics-that
 -matter-in-agile-register-free-at-tickets-50027655063\r\n\r\nAgilePA U
 sers Group Meeting, sponsored by DailyAgile\r\nThursday, November 8, 2
 018 The Conference Center at Penn State Great Valley\r\n5:00 - 6:00 p.
 m.: Networking –Liberty Personnel Services Recruiting Team will be 
 on site to discuss employment opportunities\r\n5:30 - 6:00 p.m.: Chec
 k in/ light refreshments served 6:00 - 8:00 p.m.: Agile Workshop;\r\nM
 MA: Metrics that Matter in Agile\r\nKeynote Speaker: Kiran Thakkar ▪
                                MBA, CSD, CLP, S@ST, CST
  – Certified Scrum Trainer, & Enterprise Agile Coach\r\nPMI members 
 may earn 2-PDUs; ScrumAlliance members may earn 2-SEUs\r\nDuring the f
 irst hour of this event (5:00 – 6:00 p.m.) members with the Recruiti
 ng Team members of the Recruiting Team with Liberty Personnel Service
 s will be on site to discuss employment opportunities or discuss how 
 they can help your organization fill any Open Positons \r\n  \r\nLoc
 ation:The Conference Center at Penn State Great Valley, fordirections 
 click here\r\nPenn State Great Valley Campus\r\n30 East Swedesford Roa
 d\r\nMalvern, PA\r\nGoogle map:\r\nhttps://maps.google.com/maps?q=Penn
 +State+Great+Valley,+East+Swedesford+Road,+Malvern,+PA&hl=en&ll=40.065
 723,-75.522423&spn=0.129797,0.294571&sll=40.034589,-75.578481&sspn=0.0
 04058,0.009205&oq=penn+state+gre&hq=Penn+State+Great+Valley,+East+Swed
 esford+Road,+Malvern,+PA&radius=15000&t=m&z=12&iwloc=A\r\n\r\nhttps://
 www.meetup.com/agilepa\n\nFor more information visit http://www.agilep
 hilly.com/events/metrics-that-matter-at-agilepa-user-group-penn-state-
 great-valley
DTSTART;TZID=America/Anguilla:20181108T170000
DTEND;TZID=America/Anguilla:20181108T203000
CATEGORIES:meeting, penn, state, great, valley, agilepa
LOCATION:Penn State Great Valley Conference Center (Building on Left)
WEBSITE:https://www.dailyagile.com/scrum-class-list-2
URL:https://www.dailyagile.com/scrum-class-list-2
CONTACT:
ORGANIZER:John Voris / Jay Polakoff / Krian Thakkar
ATTACH;FMTTYPE="image/jpeg":http://storage.ning.com/topology/rest/1.0/
 file/get/1678275291?profile=original
ATTENDEE;ROLE=REQ-PARTICIPANT;PARTSTAT=ACCEPTED;RSVP=TRUE;CN="John Vor
 is, Lead Coordinator":http://www.agilephilly.com/profile/JohnVoris
END:VEVENT
END:VCALENDAR
