BEGIN:VCALENDAR
PRODID:NingEventWidget-v1
VERSION:2.0
METHOD:PUBLISH
BEGIN:VTIMEZONE
TZID:America/Anguilla
X-LIC-LOCATION:America/Anguilla
BEGIN:STANDARD
TZOFFSETFROM:-0400
TZOFFSETTO:-0400
TZNAME:AST
DTSTART:19700101T000000
END:STANDARD
END:VTIMEZONE
BEGIN:VEVENT
UID:3783271:Event:52776
DTSTAMP:20260421T050218Z
SUMMARY:Agile UX, Joint Meeting with PhillyCHI
DESCRIPTION:\nAgile UX: Dogma v.s. Diversity\nThe real RSVP for the fo
 od and drink is at\nhttps://www.eventbrite.com/e/agile-ux-dogma-vs-div
 ersity-tickets-25779825151\nhelp us all out and sign up at EventBrite\
 n\nPhillyCHI and AgilePhilly are teaming up to explore the many ways A
 gile is practiced and the different manifestations of UX seen in diffe
 rent environments.  Our panelists will discuss harmony and pain points
  they face in communicating and collaborating with the wider team as t
 hey practice UX.\nPhillyCHI and AgilePhilly are teaming up to explore 
 the different ways we practice Agile and its affect on UX in those var
 ying environments. Our panelists will discuss harmony and pain points 
 they face in the workplace. We’ll have a short Q&A session after the
  panel discussion. Alcoholic and non-alcoholic beverages as well as li
 ght snacks will be provided. \nPhillyCHI and AgilePhilly are teaming u
 p to explore the different ways we practice Agile and its affect on UX
  in those varying environments. Our panelists will discuss harmony and
  pain points they face in the workplace. We’ll have a short Q&A sess
 ion after the panel discussion. Alcoholic and non-alcoholic beverages 
 as well as light snacks will be provided.\n\nPanelists include:\n\nNic
 olas Coia - Senior Global Product Manager, Interaction Design @ Urban 
 Outfitters\n\nLauren Galanter - User Experience Designer & Researcher 
 @ Morgan Lewis\n\n\n\nJulie Guinn - Experience Designer @ Jefferson He
 alth, Center for Innovation & Consumer Experience\n\nMichael Zarro - U
 X Researcher & Designer @ Project Management Institute\n\n\nModerator:
  Joel Eden - Lean UX Product Manager @ Checkpoint Systems\n\n\n\nWe’
 ll have a short Q&A session after the panel discussion.  Alcoholic and
  non-alcoholic beverages as well as light snacks will be provided.\n\n
 Wednesday, June 8th, 2016 6-8pm\nLocation: WeWork in Northern Liberty 
 section of the city\n1010 N Hancock St\n\nPhiladelphia, PA 19123 \n- 0
 .3 miles south of the Girard Street Subway station on the MFL\n - lot
 s of FREE parking at the lot at the Piazza next door with plenty of sp
 aces. There is free parking in the Piazza's parking lot. The main entr
 ance for WeWork is located next to the summer stage in the Piazza. The
 re is a large sign that reads \"Do What You Love\" next to the entranc
 e.\nGoogle Maps\n\n WeWork is a indie space www.wework.com\n\n Special
  thanks to our event sponsor, TherapyNotes\n\nAnd for more info, how T
 esters and QA and UX are intermingled, see this by Lisa Crispin, Teste
 r Extraordinaire\nhttps://groups.yahoo.com/neo/groups/agile-testing/co
 nversations/topics/22768\n\n\n\n\nFor more information visit http://ww
 w.agilephilly.com/events/joint-meeting-phillyux
DTSTART;TZID=America/Anguilla:20160608T180000
DTEND;TZID=America/Anguilla:20160608T200000
CATEGORIES:phillychi, ux, agile, joint, meeting
LOCATION:Downtown, Northern Liberties at \"WeWork\"
WEBSITE:https://www.google.com/maps/place/1010+N+Hancock+St,+Philadelp
 hia,+PA+19123/@39.9657327,-75.1419283,17z/data=!3m1!4b1!4m5!3m4!1s0x89
 c6c8658259040f:0x5064c9061938011c!8m2!3d39.9657327!4d-75.1397396
URL:https://www.google.com/maps/place/1010+N+Hancock+St,+Philadelphia,
 +PA+19123/@39.9657327,-75.1419283,17z/data=!3m1!4b1!4m5!3m4!1s0x89c6c8
 658259040f:0x5064c9061938011c!8m2!3d39.9657327!4d-75.1397396
CONTACT:
ORGANIZER:
ATTACH;FMTTYPE="image/jpeg":
ATTENDEE;ROLE=REQ-PARTICIPANT;PARTSTAT=ACCEPTED;RSVP=TRUE;CN="Grete Mi
 ller":http://www.agilephilly.com/profile/GreteMiller
ATTENDEE;ROLE=REQ-PARTICIPANT;PARTSTAT=ACCEPTED;RSVP=TRUE;CN="Donna Ho
 lder":http://www.agilephilly.com/profile/DonnaHOlder
ATTENDEE;ROLE=REQ-PARTICIPANT;PARTSTAT=ACCEPTED;RSVP=TRUE;CN="Brian La
 wrence":http://www.agilephilly.com/profile/BrianLawrence
ATTENDEE;ROLE=REQ-PARTICIPANT;PARTSTAT=ACCEPTED;RSVP=TRUE;CN="Paul Eis
 enberg":http://www.agilephilly.com/profile/PaulEisenberg
ATTENDEE;ROLE=REQ-PARTICIPANT;PARTSTAT=ACCEPTED;RSVP=TRUE;CN="Paul Wre
 n":http://www.agilephilly.com/profile/PaulWren949
ATTENDEE;ROLE=REQ-PARTICIPANT;PARTSTAT=ACCEPTED;RSVP=TRUE;CN="Amy Wass
 um":http://www.agilephilly.com/profile/AmyWassum
ATTENDEE;ROLE=REQ-PARTICIPANT;PARTSTAT=ACCEPTED;RSVP=TRUE;CN="M. Irene
  Davis":http://www.agilephilly.com/profile/MIreneDavis
ATTENDEE;ROLE=REQ-PARTICIPANT;PARTSTAT=ACCEPTED;RSVP=TRUE;CN="Klaidi D
 hamo":http://www.agilephilly.com/profile/KlaidiDhamo
ATTENDEE;ROLE=REQ-PARTICIPANT;PARTSTAT=ACCEPTED;RSVP=TRUE;CN="Marc Gra
 vez":http://www.agilephilly.com/profile/MarcGravez
ATTENDEE;ROLE=REQ-PARTICIPANT;PARTSTAT=ACCEPTED;RSVP=TRUE;CN="Rick But
 ler":http://www.agilephilly.com/profile/rickbutler
ATTENDEE;ROLE=REQ-PARTICIPANT;PARTSTAT=ACCEPTED;RSVP=TRUE;CN="Ron McNa
 mara":http://www.agilephilly.com/profile/RonMcNamara
ATTENDEE;ROLE=REQ-PARTICIPANT;PARTSTAT=ACCEPTED;RSVP=TRUE;CN="Todd Hof
 fman":http://www.agilephilly.com/profile/ToddHoffman
ATTENDEE;ROLE=REQ-PARTICIPANT;PARTSTAT=ACCEPTED;RSVP=TRUE;CN="John Vor
 is, Lead Coordinator":http://www.agilephilly.com/profile/JohnVoris
ATTENDEE;ROLE=REQ-PARTICIPANT;PARTSTAT=TENTATIVE;RSVP=TRUE;CN="Warren 
 Werner":http://www.agilephilly.com/profile/WarrenWerner
ATTENDEE;ROLE=REQ-PARTICIPANT;PARTSTAT=TENTATIVE;RSVP=TRUE;CN="Jim Lew
 is":http://www.agilephilly.com/profile/JimLewis
ATTENDEE;ROLE=REQ-PARTICIPANT;PARTSTAT=TENTATIVE;RSVP=TRUE;CN="Kathryn
  Balsley":http://www.agilephilly.com/profile/KathrynBalsley
ATTENDEE;ROLE=REQ-PARTICIPANT;PARTSTAT=TENTATIVE;RSVP=TRUE;CN="Tiffany
  Powley":http://www.agilephilly.com/profile/TiffanyPowley
END:VEVENT
END:VCALENDAR
