BEGIN:VCALENDAR
PRODID:NingEventWidget-v1
VERSION:2.0
METHOD:PUBLISH
BEGIN:VTIMEZONE
TZID:America/Anguilla
X-LIC-LOCATION:America/Anguilla
BEGIN:STANDARD
TZOFFSETFROM:-0400
TZOFFSETTO:-0400
TZNAME:AST
DTSTART:19700101T000000
END:STANDARD
END:VTIMEZONE
BEGIN:VEVENT
UID:3783271:Event:72105
DTSTAMP:20260421T213214Z
SUMMARY:AgilePA May 22 - LESS at Penn State Great Valley
DESCRIPTION:\r\nSpeaker: Craig Larman, Co-Creator of LeSS - Large Scal
 e Scrum Framework speaking on  \r\nLeSS - Large Scale Scrum - Achieve 
 more with LeSS  \r\n\r\nby Daily Agile - AgilePA Users Group Meeting,Â
    \r\nWILL BE MEETING ON MONDAY MAY 22\r\nfrom 5:00 PM to 8:00 PM (ED
 T)   Penn State Great Valley, the Malvern location\r\nFree but Registr
 ation required\r\nhttps://www.meetup.com/AgilePA/events/257214433 \r\n
 or try\r\nhttps://www.dailyagile.com/scrum-class-list-2  \r\n\r\n\r\nS
 crum Alliance members earn 2-SEUs (Scrum Education Units)\r\nPMI membe
 rs earn 2-PDUs (Professional Development Units)\r\nAgenda:\r\n5:00 â€“
  6:00 p.m. - Networking â€“ Recruiters with Apex Systems will be onsit
 e to discuss employment opportunities available, as well as any open p
 ositions your organization may have\r\n5:30 - 6:00 p.m. - Check-in and
  light refreshments served\r\n6:00 â€“ 6:15 p.m. - Introductions\r\n6:
 15 â€“ 7:15 p.m. - Large Scale Scrum using LESS: What is it? Why? Pres
 ented by: Kiran Thakkar, MBA, CST â€“ DailyAgile Certified Scrum Train
 er, & Agile Coach\r\n7:15 â€“ 8:00 p.m. -Q & A\r\n Â \r\nLocation:The 
 Conference Center at Penn State Great Valley, fordirections click here
 \r\nPenn State Great Valley Campus\r\n30 East Swedesford Road\r\nMalve
 rn, PA\r\nGoogle map:\r\nhttps://maps.google.com/maps?q=Penn+State+Gre
 at+Valley,+East+Swedesford+Road,+Malvern,+PA&hl=en&ll=40.065723,-75.52
 2423&spn=0.129797,0.294571&sll=40.034589,-75.578481&sspn=0.004058,0.00
 9205&oq=penn+state+gre&hq=Penn+State+Great+Valley,+East+Swedesford+Roa
 d,+Malvern,+PA&radius=15000&t=m&z=12&iwloc=A\r\n\n\nFor more informati
 on visit http://www.agilephilly.com/events/agilepa-may-22-less-at-penn
 -state-great-valley
DTSTART;TZID=America/Anguilla:20190522T170000
DTEND;TZID=America/Anguilla:20190522T203000
CATEGORIES:meeting, penn, state, great, valley
LOCATION:Penn State Great Valley Conference Center (Building on Left)
WEBSITE:https://www.meetup.com/AgilePA/events/257214433
URL:https://www.meetup.com/AgilePA/events/257214433
CONTACT:
ORGANIZER:John Voris / Jay Polakoff / Krian Thakkar
ATTACH;FMTTYPE="image/jpeg":https://storage.ning.com/topology/rest/1.0
 /file/get/1420166891?profile=original
ATTENDEE;ROLE=REQ-PARTICIPANT;PARTSTAT=ACCEPTED;RSVP=TRUE;CN="John Vor
 is, Lead Coordinator":http://www.agilephilly.com/profile/JohnVoris
END:VEVENT
END:VCALENDAR
