BEGIN:VCALENDAR
PRODID:NingEventWidget-v1
VERSION:2.0
METHOD:PUBLISH
BEGIN:VTIMEZONE
TZID:America/Anguilla
X-LIC-LOCATION:America/Anguilla
BEGIN:STANDARD
TZOFFSETFROM:-0400
TZOFFSETTO:-0400
TZNAME:AST
DTSTART:19700101T000000
END:STANDARD
END:VTIMEZONE
BEGIN:VEVENT
UID:3783271:Event:67979
DTSTAMP:20260425T102632Z
SUMMARY:Agile Government ( $ ) in Washington DC
DESCRIPTION:Agile in Government \r\nGovernment contracting and project
  management always shared two common approaches – Traditional and Ag
 ile. However, the Clinger-Cohen Act (Pub. L No. 104-106, 1996) made Ag
 ile practices mandatory. Making this transition for many has been diff
 icult and legally risky. Until now.\r\n \r\nMay 17, 2018 @ 8:00 am -
  4:30 pm \r\nDouble Tree 1960 Chain Bridge Road  McLean, VA 22102 \r\n
 \r\nGoogle Map\r\n \r\n\r\n\r\n This is an educational event presente
 d by the P.M.I.\r\nhttps://www.pmiwdc.org/2018/05/educational-seminars
  \r\nhttps://www.agilegovleaders.org/event/agile-government-contracti
 ng-expert-guidance-legally-applying-agile-contracting-practices\r\n \
 r\n\r\n\n\nFor more information visit http://www.agilephilly.com/event
 s/agile-government-in-washington-dc
DTSTART;TZID=America/Anguilla:20180517T000000
DTEND;TZID=America/Anguilla:20180517T235900
CATEGORIES:agile, dc, conference, govt, government
LOCATION:Washington, DC
WEBSITE:https://www.agilegovleaders.org/event/agile-government-contrac
 ting-expert-guidance-legally-applying-agile-contracting-practices
URL:https://www.agilegovleaders.org/event/agile-government-contracting
 -expert-guidance-legally-applying-agile-contracting-practices
CONTACT:
ORGANIZER;CN="John Voris, Lead Coordinator":http://www.agilephilly.com
 /profile/JohnVoris
ATTACH;FMTTYPE="image/jpeg":http://storage.ning.com/topology/rest/1.0/
 file/get/1678290448?profile=original
ATTENDEE;ROLE=REQ-PARTICIPANT;PARTSTAT=ACCEPTED;RSVP=TRUE;CN="John Vor
 is, Lead Coordinator":http://www.agilephilly.com/profile/JohnVoris
END:VEVENT
END:VCALENDAR
