BEGIN:VCALENDAR
PRODID:NingEventWidget-v1
VERSION:2.0
METHOD:PUBLISH
BEGIN:VTIMEZONE
TZID:America/Anguilla
X-LIC-LOCATION:America/Anguilla
BEGIN:STANDARD
TZOFFSETFROM:-0400
TZOFFSETTO:-0400
TZNAME:AST
DTSTART:19700101T000000
END:STANDARD
END:VTIMEZONE
BEGIN:VEVENT
UID:3783271:Event:103962
DTSTAMP:20260425T103003Z
SUMMARY:Agile DC 2019 ( $ ) in Washington
DESCRIPTION:September 23, 2019\r\nLean+Agile DC\r\nFor Tickets and Inf
 o   https://www.agiledc.org\r\n\r\nLinda Rising is the keynote speak
 er ( She is good.  We had her in April 2011 and April 2014  http://
 www.agilephilly.com/events/phillyete-2014-carryover-discussions )\r\n\
 r\n\n\nFor more information visit http://www.agilephilly.com/events/ag
 ile-dc-2019-in-washington
DTSTART;TZID=America/Anguilla:20190923T000000
DTEND;TZID=America/Anguilla:20190923T235900
CATEGORIES:agile, dc, conference
LOCATION:Washington, DC
WEBSITE:https://www.agiledc.org/
URL:https://www.agiledc.org/
CONTACT:
ORGANIZER;CN="John Voris, Lead Coordinator":http://www.agilephilly.com
 /profile/JohnVoris
ATTACH;FMTTYPE="image/jpeg":http://storage.ning.com/topology/rest/1.0/
 file/get/1678291832?profile=original
ATTENDEE;ROLE=REQ-PARTICIPANT;PARTSTAT=ACCEPTED;RSVP=TRUE;CN="John Vor
 is, Lead Coordinator":http://www.agilephilly.com/profile/JohnVoris
END:VEVENT
END:VCALENDAR
