BEGIN:VCALENDAR
PRODID:NingEventWidget-v1
VERSION:2.0
METHOD:PUBLISH
BEGIN:VTIMEZONE
TZID:America/Anguilla
X-LIC-LOCATION:America/Anguilla
BEGIN:STANDARD
TZOFFSETFROM:-0400
TZOFFSETTO:-0400
TZNAME:AST
DTSTART:19700101T000000
END:STANDARD
END:VTIMEZONE
BEGIN:VEVENT
UID:3783271:Event:281346
DTSTAMP:20260421T214231Z
SUMMARY:($) Agile Business Analysis PSU Abington
DESCRIPTION:\r\nThis one-day course will give students the tools neede
 d to properly manage User Stories from a Theme level to an Epic level 
 to a User Story level. Creating Product Backlog, Writing User Personas
 , Story slicing, Nonfunctional requirements and User Interface Design 
 (Mock up screens).\r\nÂ \r\nInstructor Bob Marini:  for \r\nAgile Busi
 ness AnalysisÂ Â Â Â Â Â Â Â Â Â Â Â Â Â Â Â Â Â Â Â Â Â Â Â Â Â Â Â Â
  Â Â Â Â Â Â Â Â Â Â Â Â Â Â Â Â Â Â Â Â Â Â Â Â Â Â Â Â Â Â Â  Date: 
 Oct 8Â Â Â Â Â Â Â Â Â Â Â Â Â Â Â Â Â Â Â Â Â  8 AM - 4 PM 7 hoursÂ Â
  Â Â Â Â Â Â Â Â Â Â Â Â Â Â Â Â Â Â Â  CEUs 0.7Â Â Â Â   Â \r\nhttps:
 //abington.psu.edu/agile-business-analysis\r\nÂ \r\n\n\nFor more infor
 mation visit http://www.agilephilly.com/events/agile-business-analysis
 -psu-abington
DTSTART;TZID=America/Anguilla:20191008T000000
DTEND;TZID=America/Anguilla:20191008T235900
CATEGORIES:agilepa, penn, state
LOCATION:Penn State Abington
WEBSITE:https://abington.psu.edu/agile-business-analysis
URL:https://abington.psu.edu/agile-business-analysis
CONTACT:
ORGANIZER:PSU Abington
ATTACH;FMTTYPE="image/jpeg":http://storage.ning.com/topology/rest/1.0/
 file/get/1678278263?profile=original
ATTENDEE;ROLE=REQ-PARTICIPANT;PARTSTAT=ACCEPTED;RSVP=TRUE;CN="John Vor
 is, Lead Coordinator":http://www.agilephilly.com/profile/JohnVoris
END:VEVENT
END:VCALENDAR
